BEGIN:VCALENDAR
VERSION:2.0
PRODID:-//Eventin//Event Calendar//EN
CALSCALE:GREGORIAN
METHOD:PUBLISH
BEGIN:VEVENT
UID:9c8091498df314c2c1958d07b9d8539d@snackatchewan.com
SUMMARY:Wings
DESCRIPTION:
LOCATION:Broken Rack
DTSTAMP:20260421T112252Z
DTSTART:20350430T060000Z
DTEND:20350501T055000Z
END:VEVENT
END:VCALENDAR
