BEGIN:VCALENDAR
VERSION:2.0
PRODID:-//Eventin//Event Calendar//EN
CALSCALE:GREGORIAN
METHOD:PUBLISH
BEGIN:VEVENT
UID:c86a917fe58905b3a9d8ff0e8d86dd7c@snackatchewan.com
SUMMARY:Wings
DESCRIPTION:
LOCATION:Broken Rack
DTSTAMP:20260421T112327Z
DTSTART:20350730T060000Z
DTEND:20350731T055000Z
END:VEVENT
END:VCALENDAR
