BEGIN:VCALENDAR
VERSION:2.0
PRODID:-//Eventin//Event Calendar//EN
CALSCALE:GREGORIAN
METHOD:PUBLISH
BEGIN:VEVENT
UID:c235d77a1c63f0188139d3d94a90135d@snackatchewan.com
SUMMARY:Wings
DESCRIPTION:
LOCATION:Broken Rack
DTSTAMP:20260421T112347Z
DTSTART:20360225T060000Z
DTEND:20360226T055000Z
END:VEVENT
END:VCALENDAR
