BEGIN:VCALENDAR
VERSION:2.0
PRODID:-//Eventin//Event Calendar//EN
CALSCALE:GREGORIAN
METHOD:PUBLISH
BEGIN:VEVENT
UID:3f750c18cd3e58a008c1276c8cf77e3b@snackatchewan.com
SUMMARY:Wings
DESCRIPTION:
LOCATION:Broken Rack
DTSTAMP:20260421T141742Z
DTSTART:20360303T060000Z
DTEND:20360304T055000Z
END:VEVENT
END:VCALENDAR
