BEGIN:VCALENDAR
VERSION:2.0
PRODID:-//Eventin//Event Calendar//EN
CALSCALE:GREGORIAN
METHOD:PUBLISH
BEGIN:VEVENT
UID:aeeb90d081591e86efa14c520e013909@snackatchewan.com
SUMMARY:Wings
DESCRIPTION:
LOCATION:Broken Rack
DTSTAMP:20260421T142044Z
DTSTART:20360317T060000Z
DTEND:20360318T055000Z
END:VEVENT
END:VCALENDAR
