BEGIN:VCALENDAR
VERSION:2.0
PRODID:-//Eventin//Event Calendar//EN
CALSCALE:GREGORIAN
METHOD:PUBLISH
BEGIN:VEVENT
UID:c707b945873abccc739086b58fb5ead0@snackatchewan.com
SUMMARY:Wings
DESCRIPTION:
LOCATION:Broken Rack
DTSTAMP:20260419T123639Z
DTSTART:20360609T060000Z
DTEND:20360610T055000Z
END:VEVENT
END:VCALENDAR
