BEGIN:VCALENDAR
VERSION:2.0
PRODID:-//Eventin//Event Calendar//EN
CALSCALE:GREGORIAN
METHOD:PUBLISH
BEGIN:VEVENT
UID:8bd25f93478eeddf450aefca79b53b1a@snackatchewan.com
SUMMARY:Wings
DESCRIPTION:
LOCATION:Broken Rack
DTSTAMP:20260421T112245Z
DTSTART:20360630T060000Z
DTEND:20360701T055000Z
END:VEVENT
END:VCALENDAR
