BEGIN:VCALENDAR
VERSION:2.0
PRODID:-//Eventin//Event Calendar//EN
CALSCALE:GREGORIAN
METHOD:PUBLISH
BEGIN:VEVENT
UID:4c90a314b99616b6bc4c78783617f1fe@snackatchewan.com
SUMMARY:Wings
DESCRIPTION:
LOCATION:Broken Rack
DTSTAMP:20260421T112317Z
DTSTART:20360728T060000Z
DTEND:20360729T055000Z
END:VEVENT
END:VCALENDAR
