BEGIN:VCALENDAR
VERSION:2.0
PRODID:-//Eventin//Event Calendar//EN
CALSCALE:GREGORIAN
METHOD:PUBLISH
BEGIN:VEVENT
UID:b80415bf495156c35479e66a3365b395@snackatchewan.com
SUMMARY:Wings
DESCRIPTION:
LOCATION:Broken Rack
DTSTAMP:20260421T142251Z
DTSTART:20360922T060000Z
DTEND:20360923T055000Z
END:VEVENT
END:VCALENDAR
