BEGIN:VCALENDAR
VERSION:2.0
PRODID:-//Eventin//Event Calendar//EN
CALSCALE:GREGORIAN
METHOD:PUBLISH
BEGIN:VEVENT
UID:fdacafee56d2d477d7cc01e20e3ee95d@snackatchewan.com
SUMMARY:Wings
DESCRIPTION:
LOCATION:Broken Rack
DTSTAMP:20260421T124900Z
DTSTART:20370202T060000Z
DTEND:20370203T055000Z
END:VEVENT
END:VCALENDAR
