BEGIN:VCALENDAR
VERSION:2.0
PRODID:-//Eventin//Event Calendar//EN
CALSCALE:GREGORIAN
METHOD:PUBLISH
BEGIN:VEVENT
UID:3e218aafb06dd7960551038b2eb7850c@snackatchewan.com
SUMMARY:Wings
DESCRIPTION:
LOCATION:Broken Rack
DTSTAMP:20260421T112322Z
DTSTART:20370629T060000Z
DTEND:20370630T055000Z
END:VEVENT
END:VCALENDAR
