BEGIN:VCALENDAR
VERSION:2.0
PRODID:-//Eventin//Event Calendar//EN
CALSCALE:GREGORIAN
METHOD:PUBLISH
BEGIN:VEVENT
UID:9500f2a9772455ddffa5f08840373ab0@snackatchewan.com
SUMMARY:Wings
DESCRIPTION:
LOCATION:Broken Rack
DTSTAMP:20260421T141823Z
DTSTART:20371019T060000Z
DTEND:20371020T055000Z
END:VEVENT
END:VCALENDAR
