BEGIN:VCALENDAR
VERSION:2.0
PRODID:-//Eventin//Event Calendar//EN
CALSCALE:GREGORIAN
METHOD:PUBLISH
BEGIN:VEVENT
UID:09359d467a1c01f740a1037bc2e50f9e@snackatchewan.com
SUMMARY:Wings
DESCRIPTION:
LOCATION:Broken Rack
DTSTAMP:20260421T142308Z
DTSTART:20371123T060000Z
DTEND:20371124T055000Z
END:VEVENT
END:VCALENDAR
