BEGIN:VCALENDAR
VERSION:2.0
PRODID:-//Eventin//Event Calendar//EN
CALSCALE:GREGORIAN
METHOD:PUBLISH
BEGIN:VEVENT
UID:c6fb55a363b068110354e890f5623e67@snackatchewan.com
SUMMARY:Wings
DESCRIPTION:
LOCATION:Broken Rack
DTSTAMP:20260421T142251Z
DTSTART:20371228T060000Z
DTEND:20371229T055000Z
END:VEVENT
END:VCALENDAR
