BEGIN:VCALENDAR
VERSION:2.0
PRODID:-//Eventin//Event Calendar//EN
CALSCALE:GREGORIAN
METHOD:PUBLISH
BEGIN:VEVENT
UID:074c48370a7790b42dcd8fb6f8b7ffd3@snackatchewan.com
SUMMARY:Wings
DESCRIPTION:
LOCATION:Broken Rack
DTSTAMP:20260421T142048Z
DTSTART:20380426T060000Z
DTEND:20380427T055000Z
END:VEVENT
END:VCALENDAR
