BEGIN:VCALENDAR
VERSION:2.0
PRODID:-//Eventin//Event Calendar//EN
CALSCALE:GREGORIAN
METHOD:PUBLISH
BEGIN:VEVENT
UID:697c7067f6637162b2a9af83ffeff5a3@snackatchewan.com
SUMMARY:Wings
DESCRIPTION:
LOCATION:Broken Rack
DTSTAMP:20260421T142308Z
DTSTART:20380503T060000Z
DTEND:20380504T055000Z
END:VEVENT
END:VCALENDAR
