BEGIN:VCALENDAR
VERSION:2.0
PRODID:-//Eventin//Event Calendar//EN
CALSCALE:GREGORIAN
METHOD:PUBLISH
BEGIN:VEVENT
UID:ffe45c8775c24c5632c1a7efec453b20@snackatchewan.com
SUMMARY:Wings
DESCRIPTION:
LOCATION:Broken Rack
DTSTAMP:20260421T141648Z
DTSTART:20380524T060000Z
DTEND:20380525T055000Z
END:VEVENT
END:VCALENDAR
