BEGIN:VCALENDAR
VERSION:2.0
PRODID:-//Eventin//Event Calendar//EN
CALSCALE:GREGORIAN
METHOD:PUBLISH
BEGIN:VEVENT
UID:e7506d069e9b4a190b323473e0606507@snackatchewan.com
SUMMARY:Wings
DESCRIPTION:
LOCATION:Broken Rack
DTSTAMP:20260421T112342Z
DTSTART:20380712T060000Z
DTEND:20380713T055000Z
END:VEVENT
END:VCALENDAR
