BEGIN:VCALENDAR
VERSION:2.0
PRODID:-//Eventin//Event Calendar//EN
CALSCALE:GREGORIAN
METHOD:PUBLISH
BEGIN:VEVENT
UID:9bbe9b83390b39bf332157cfb46efc49@snackatchewan.com
SUMMARY:Wings
DESCRIPTION:
LOCATION:Broken Rack
DTSTAMP:20260421T093958Z
DTSTART:20380802T060000Z
DTEND:20380803T055000Z
END:VEVENT
END:VCALENDAR
