BEGIN:VCALENDAR
VERSION:2.0
PRODID:-//Eventin//Event Calendar//EN
CALSCALE:GREGORIAN
METHOD:PUBLISH
BEGIN:VEVENT
UID:4004eb6cbe474eded819a5bf0b012381@snackatchewan.com
SUMMARY:Wings
DESCRIPTION:
LOCATION:Broken Rack
DTSTAMP:20260421T095713Z
DTSTART:20381025T060000Z
DTEND:20381026T055000Z
END:VEVENT
END:VCALENDAR
