BEGIN:VCALENDAR
VERSION:2.0
PRODID:-//Eventin//Event Calendar//EN
CALSCALE:GREGORIAN
METHOD:PUBLISH
BEGIN:VEVENT
UID:49d7ce2b52bbefbab6a5220a3a84ceb1@snackatchewan.com
SUMMARY:Wings
DESCRIPTION:
LOCATION:Broken Rack
DTSTAMP:20260421T095708Z
DTSTART:20381220T060000Z
DTEND:20381221T055000Z
END:VEVENT
END:VCALENDAR
