BEGIN:VCALENDAR
VERSION:2.0
PRODID:-//Eventin//Event Calendar//EN
CALSCALE:GREGORIAN
METHOD:PUBLISH
BEGIN:VEVENT
UID:d37bb80d73a707d60aaa828540025ed0@snackatchewan.com
SUMMARY:Wings
DESCRIPTION:
LOCATION:Broken Rack
DTSTAMP:20260421T084957Z
DTSTART:20390221T060000Z
DTEND:20390222T055000Z
END:VEVENT
END:VCALENDAR
