BEGIN:VCALENDAR
VERSION:2.0
PRODID:-//Eventin//Event Calendar//EN
CALSCALE:GREGORIAN
METHOD:PUBLISH
BEGIN:VEVENT
UID:8df274b263bb8b0f2399cabb291e5464@snackatchewan.com
SUMMARY:Wings
DESCRIPTION:
LOCATION:Broken Rack
DTSTAMP:20260421T142048Z
DTSTART:20390620T060000Z
DTEND:20390621T055000Z
END:VEVENT
END:VCALENDAR
