BEGIN:VCALENDAR
VERSION:2.0
PRODID:-//Eventin//Event Calendar//EN
CALSCALE:GREGORIAN
METHOD:PUBLISH
BEGIN:VEVENT
UID:29d92e2e77d48f6a4886a632845c5f2d@snackatchewan.com
SUMMARY:Wings
DESCRIPTION:
LOCATION:Broken Rack
DTSTAMP:20260421T124835Z
DTSTART:20390822T060000Z
DTEND:20390823T055000Z
END:VEVENT
END:VCALENDAR
