BEGIN:VCALENDAR
VERSION:2.0
PRODID:-//Eventin//Event Calendar//EN
CALSCALE:GREGORIAN
METHOD:PUBLISH
BEGIN:VEVENT
UID:139a7e962e5c41dfe709b554907263bd@snackatchewan.com
SUMMARY:Wings
DESCRIPTION:
LOCATION:Broken Rack
DTSTAMP:20260421T142308Z
DTSTART:20391024T060000Z
DTEND:20391025T055000Z
END:VEVENT
END:VCALENDAR
